BEGIN:VCALENDAR
VERSION:2.0
PRODID:-//KokBoekencentrum - ECPv6.15.20//NONSGML v1.0//EN
CALSCALE:GREGORIAN
METHOD:PUBLISH
X-WR-CALNAME:KokBoekencentrum
X-ORIGINAL-URL:https://www.kokboekencentrum.nl
X-WR-CALDESC:Evenementen voor KokBoekencentrum
REFRESH-INTERVAL;VALUE=DURATION:PT1H
X-Robots-Tag:noindex
X-PUBLISHED-TTL:PT1H
BEGIN:VTIMEZONE
TZID:UTC
BEGIN:STANDARD
TZOFFSETFROM:+0000
TZOFFSETTO:+0000
TZNAME:UTC
DTSTART:20210101T000000
END:STANDARD
END:VTIMEZONE
BEGIN:VEVENT
DTSTART;TZID=UTC:20221221T140000
DTEND;TZID=UTC:20221221T140000
DTSTAMP:20260422T025916
CREATED:20220927T111152Z
LAST-MODIFIED:20220927T111152Z
UID:56287-1671631200-1671631200@www.kokboekencentrum.nl
SUMMARY:Senioren bijeenkomst
DESCRIPTION:Onderwerp: Kerstviering
URL:https://www.kokboekencentrum.nl/event/senioren-bijeenkomst/
LOCATION:Gereformeerde Kerk\, Lunteren\, Oranjestraat 31\, Lunteren\, Gelderland\, Nederland
CATEGORIES:Joke Verweerd
END:VEVENT
BEGIN:VEVENT
DTSTART;TZID=UTC:20221220T143000
DTEND;TZID=UTC:20221220T143000
DTSTAMP:20260422T025916
CREATED:20220927T111147Z
LAST-MODIFIED:20220927T111147Z
UID:56294-1671546600-1671546600@www.kokboekencentrum.nl
SUMMARY:Passage Ter Aar
DESCRIPTION:Onderwerp: Kerstviering
URL:https://www.kokboekencentrum.nl/event/passage-ter-aar/
LOCATION:Nog niet bekend
CATEGORIES:Joke Verweerd
END:VEVENT
BEGIN:VEVENT
DTSTART;TZID=UTC:20221219T143000
DTEND;TZID=UTC:20221219T143000
DTSTAMP:20260422T025916
CREATED:20220927T111143Z
LAST-MODIFIED:20220927T111143Z
UID:56281-1671460200-1671460200@www.kokboekencentrum.nl
SUMMARY:Ouderen PKN Brugkerk Lopik
DESCRIPTION:Onderwerp: Kerstviering
URL:https://www.kokboekencentrum.nl/event/ouderen-pkn-brugkerk-lopik/
LOCATION:Brugkerk Lopik\, Lopikkerweg Oost 57\, Lopik\, Utrecht\, Nederland
CATEGORIES:Joke Verweerd
END:VEVENT
BEGIN:VEVENT
DTSTART;TZID=UTC:20221215T194500
DTEND;TZID=UTC:20221215T194500
DTSTAMP:20260422T025916
CREATED:20220927T111144Z
LAST-MODIFIED:20220927T111144Z
UID:56278-1671133500-1671133500@www.kokboekencentrum.nl
SUMMARY:Passage Bleskensgraaf
DESCRIPTION:Onderwerp: Kerstviering
URL:https://www.kokboekencentrum.nl/event/passage-bleskensgraaf/
LOCATION:Diaconaia\, Kerkstraat 19a\, Bleskensgraaf\, Zuid-Holland\, Nederland
CATEGORIES:Joke Verweerd
END:VEVENT
BEGIN:VEVENT
DTSTART;TZID=UTC:20221214T194500
DTEND;TZID=UTC:20221214T194500
DTSTAMP:20260422T025916
CREATED:20220927T111145Z
LAST-MODIFIED:20221204T134035Z
UID:56275-1671047100-1671047100@www.kokboekencentrum.nl
SUMMARY:Passage Hoornaar
DESCRIPTION:Onderwerp: Kerstviering
URL:https://www.kokboekencentrum.nl/event/passage-hoornaar/
LOCATION:Het Bruisend Hart\, Dirk 1V plein 32\, Hoornaar\, Zuid-Holland\, Nederland
CATEGORIES:Joke Verweerd
END:VEVENT
BEGIN:VEVENT
DTSTART;TZID=UTC:20221212T143000
DTEND;TZID=UTC:20221212T143000
DTSTAMP:20260422T025916
CREATED:20220927T111149Z
LAST-MODIFIED:20221204T134101Z
UID:56272-1670855400-1670855400@www.kokboekencentrum.nl
SUMMARY:PCOB De Graafstroom
DESCRIPTION:Onderwerp: Kerstviering
URL:https://www.kokboekencentrum.nl/event/pcob-de-graafstroom/
LOCATION:De Akker\, Gijbelandsedijk 54\, Brandwijk\, Zuid-Holland\, Nederland
CATEGORIES:Joke Verweerd
END:VEVENT
BEGIN:VEVENT
DTSTART;TZID=UTC:20221208T143000
DTEND;TZID=UTC:20221208T143000
DTSTAMP:20260422T025916
CREATED:20220927T111148Z
LAST-MODIFIED:20221204T134128Z
UID:56296-1670509800-1670509800@www.kokboekencentrum.nl
SUMMARY:PCOB Barneveld
DESCRIPTION:Onderwerp: Kerstviering
URL:https://www.kokboekencentrum.nl/event/pcob-barneveld-2/
LOCATION:Kerkelijk centrum Rehoboth\, Gasthuisstraat 5\, Barneveld\, Gelderland\, Nederland
CATEGORIES:Joke Verweerd
END:VEVENT
BEGIN:VEVENT
DTSTART;TZID=UTC:20221208T143000
DTEND;TZID=UTC:20221208T143000
DTSTAMP:20260422T025916
CREATED:20220927T111148Z
LAST-MODIFIED:20221204T134116Z
UID:56269-1670509800-1670509800@www.kokboekencentrum.nl
SUMMARY:PCOB Barneveld
DESCRIPTION:Onderwerp: Kerstviering
URL:https://www.kokboekencentrum.nl/event/pcob-barneveld/
LOCATION:Kerkelijk centrum Rehoboth\, Gasthuisstraat 5\, Barneveld\, Gelderland\, Nederland
CATEGORIES:Joke Verweerd
END:VEVENT
BEGIN:VEVENT
DTSTART;TZID=UTC:20221207T150000
DTEND;TZID=UTC:20221207T150000
DTSTAMP:20260422T025916
CREATED:20220927T111151Z
LAST-MODIFIED:20221204T140707Z
UID:56300-1670425200-1670425200@www.kokboekencentrum.nl
SUMMARY:PCOB Sprang-Capelle
DESCRIPTION:Onderwerp: Kerstviering
URL:https://www.kokboekencentrum.nl/event/pcob-sprang-capelle/
LOCATION:Willem van Oranje College\, De Gaard 4\, Waalwijk\, Noord-Brabant\, Nederland
CATEGORIES:Joke Verweerd
END:VEVENT
BEGIN:VEVENT
DTSTART;TZID=UTC:20221115T194500
DTEND;TZID=UTC:20221115T194500
DTSTAMP:20260422T025916
CREATED:20220927T111152Z
LAST-MODIFIED:20220927T111152Z
UID:56263-1668541500-1668541500@www.kokboekencentrum.nl
SUMMARY:Rijsoord\, Passage
DESCRIPTION:
URL:https://www.kokboekencentrum.nl/event/rijsoord-passage/
LOCATION:De Hoeksteen\, Rijksstraatweg 45\, Rijsoord\, Zuid-Holland\, Nederland
CATEGORIES:Joke Verweerd
END:VEVENT
BEGIN:VEVENT
DTSTART;TZID=UTC:20221029T140000
DTEND;TZID=UTC:20221029T140000
DTSTAMP:20260422T025916
CREATED:20220927T111154Z
LAST-MODIFIED:20220927T111154Z
UID:56304-1667052000-1667052000@www.kokboekencentrum.nl
SUMMARY:Woerden Ouderenmiddag
DESCRIPTION:Onderwerp: Een hoofd vol verhalen…
URL:https://www.kokboekencentrum.nl/event/woerden-ouderenmiddag/
LOCATION:Het Baken\, Beneluxlaan 3\, Woeren\, Utrecht\, Nederland
CATEGORIES:Joke Verweerd
END:VEVENT
BEGIN:VEVENT
DTSTART;TZID=UTC:20221024T103000
DTEND;TZID=UTC:20221024T103000
DTSTAMP:20260422T025916
CREATED:20220927T111150Z
LAST-MODIFIED:20220927T111150Z
UID:56302-1666607400-1666607400@www.kokboekencentrum.nl
SUMMARY:PCOB Den Haag
DESCRIPTION:Onderwerp: Veerkracht
URL:https://www.kokboekencentrum.nl/event/pcob-den-haag/
LOCATION:Christus Triumfatorkerk\, Juliana van Stolberglaan 154\, Den Haag\, Zuid-Holland\, Nederland
CATEGORIES:Joke Verweerd
END:VEVENT
BEGIN:VEVENT
DTSTART;TZID=UTC:20221011T083000
DTEND;TZID=UTC:20221011T120000
DTSTAMP:20260422T025916
CREATED:20220927T111142Z
LAST-MODIFIED:20220927T111142Z
UID:56254-1665477000-1665489600@www.kokboekencentrum.nl
SUMMARY:Johannes Calvijnschool\, Krimpen aan den Ijssel
DESCRIPTION:Onderwerp: Kinderboekenweek: Een hoofd vol verhalen!
URL:https://www.kokboekencentrum.nl/event/johannes-calvijnschool-krimpen-aan-den-ijssel/
LOCATION:Johannes Calvijnschool Krimpen aan den Ijssel\, Buijes Ballotsingel\, Krimpen aan den Ijssel\, Zuid-Holland\, Nederland
CATEGORIES:Joke Verweerd
END:VEVENT
BEGIN:VEVENT
DTSTART;TZID=UTC:20221003T194500
DTEND;TZID=UTC:20221003T194500
DTSTAMP:20260422T025916
CREATED:20220927T111153Z
LAST-MODIFIED:20220927T111153Z
UID:56250-1664826300-1664826300@www.kokboekencentrum.nl
SUMMARY:Vrouwenvereniging Boven Hardinxveld
DESCRIPTION:Onderwerp: Bewogen en Bevlogen
URL:https://www.kokboekencentrum.nl/event/vrouwenvereniging-boven-hardinxveld/
LOCATION:Vrouwenvereniging Boven Hardinxveld\, Paulus Potterstraat 20\, Boven Hardinxveld\, Zuid-Holland\, Nederland
CATEGORIES:Joke Verweerd
END:VEVENT
BEGIN:VEVENT
DTSTART;TZID=UTC:20220928T194500
DTEND;TZID=UTC:20220928T194500
DTSTAMP:20260422T025916
CREATED:20220927T111146Z
LAST-MODIFIED:20220927T111146Z
UID:56247-1664394300-1664394300@www.kokboekencentrum.nl
SUMMARY:Passage Lopik-Jaarsveld
DESCRIPTION:Onderwerp: Veerkracht
URL:https://www.kokboekencentrum.nl/event/passage-lopik-jaarsveld/
LOCATION:De Schaapskooi\, Dorpstraat 34\, Lopik\, Utrecht\, Nederland
CATEGORIES:Joke Verweerd
END:VEVENT
BEGIN:VEVENT
DTSTART;TZID=UTC:20220926T194500
DTEND;TZID=UTC:20220926T194500
DTSTAMP:20260422T025916
CREATED:20220927T111144Z
LAST-MODIFIED:20220927T111144Z
UID:56243-1664221500-1664221500@www.kokboekencentrum.nl
SUMMARY:Passage Ameide
DESCRIPTION:Onderwerp: Veerkracht
URL:https://www.kokboekencentrum.nl/event/passage-ameide/
LOCATION:Verengingsgebouw\, J.W. van Puttenstraat 83\, Ameide\, Utrecht\, Nederland
CATEGORIES:Joke Verweerd
END:VEVENT
BEGIN:VEVENT
DTSTART;TZID=UTC:20220919T194500
DTEND;TZID=UTC:20220919T194500
DTSTAMP:20260422T025916
CREATED:20220927T111145Z
LAST-MODIFIED:20220927T111145Z
UID:56238-1663616700-1663616700@www.kokboekencentrum.nl
SUMMARY:Passage De Maten\, Apeldoorn
DESCRIPTION:Onderwerp: Veerkracht
URL:https://www.kokboekencentrum.nl/event/passage-de-maten-apeldoorn/
LOCATION:Basisschool de Gong\, Koperslagersdonk 4-6\, Apeldoorn\, Gederland\, Nederland
CATEGORIES:Joke Verweerd
END:VEVENT
BEGIN:VEVENT
DTSTART;TZID=UTC:20220517T190000
DTEND;TZID=UTC:20220517T203000
DTSTAMP:20260422T025916
CREATED:20220105T090616Z
LAST-MODIFIED:20220204T112038Z
UID:25693-1652814000-1652819400@www.kokboekencentrum.nl
SUMMARY:PCOB Lingewaal
DESCRIPTION:Onderwerp: Jubileumprogramma
URL:https://www.kokboekencentrum.nl/event/pcob-lingewaal/
LOCATION:Dorpshuis EMM\, Langerakstraat\, Asperen\, Van Langerakstraat 6\, Asperen\, Nederland
CATEGORIES:Joke Verweerd
ATTACH;FMTTYPE=image/jpeg:https://www.kokboekencentrum.nl/wp-content/uploads/2022/01/Dorpshuis-asperen.jpg
END:VEVENT
BEGIN:VEVENT
DTSTART;TZID=UTC:20220421T193000
DTEND;TZID=UTC:20220421T210000
DTSTAMP:20260422T025916
CREATED:20220105T090201Z
LAST-MODIFIED:20220204T112039Z
UID:25691-1650569400-1650574800@www.kokboekencentrum.nl
SUMMARY:Vrouwenvereniging Priscilla\, Polsbroek en Vlist
DESCRIPTION:Onderwerp: Bewogen en bevlogen
URL:https://www.kokboekencentrum.nl/event/vrouwenvereniging-priscilla-polsbroek-en-vlist/
LOCATION:Utrecht
CATEGORIES:Joke Verweerd
END:VEVENT
BEGIN:VEVENT
DTSTART;TZID=UTC:20220420T143000
DTEND;TZID=UTC:20220420T170000
DTSTAMP:20260422T025916
CREATED:20220105T090023Z
LAST-MODIFIED:20220204T112039Z
UID:25687-1650465000-1650474000@www.kokboekencentrum.nl
SUMMARY:Vrouwenvereniging Den Hoorn
DESCRIPTION:Onderwerp: Pasen
URL:https://www.kokboekencentrum.nl/event/vrouwenvereniging-den-hoorn/
LOCATION:De Rijstuin\, Woudseweg 26\, Den Hoorn\, Woudseweg 26\, Den Hoorn\, Nederland
CATEGORIES:Joke Verweerd
ATTACH;FMTTYPE=image/jpeg:https://www.kokboekencentrum.nl/wp-content/uploads/2022/01/De-Rijstuin.jpg
END:VEVENT
BEGIN:VEVENT
DTSTART;TZID=UTC:20220413T100000
DTEND;TZID=UTC:20220413T130000
DTSTAMP:20260422T025916
CREATED:20220105T085727Z
LAST-MODIFIED:20220204T112039Z
UID:25683-1649844000-1649854800@www.kokboekencentrum.nl
SUMMARY:PCOB Capelle aan den IJssel
DESCRIPTION:Onderwerp: Pasen
URL:https://www.kokboekencentrum.nl/event/pcob-capelle-aan-den-ijssel/
LOCATION:De Hoeksteen\, Rivierweg 15\, Capelle aan den IJssel\, Rivierweg 15\, Capelle aan den IJssel\, Nederland
CATEGORIES:Joke Verweerd
ATTACH;FMTTYPE=image/jpeg:https://www.kokboekencentrum.nl/wp-content/uploads/2022/01/capelle-aan-den-ijssel.jpg
END:VEVENT
BEGIN:VEVENT
DTSTART;TZID=UTC:20220412T153000
DTEND;TZID=UTC:20220412T170000
DTSTAMP:20260422T025916
CREATED:20220105T085351Z
LAST-MODIFIED:20220204T112039Z
UID:25680-1649777400-1649782800@www.kokboekencentrum.nl
SUMMARY:PCOB Schoonhoven
DESCRIPTION:Onderwerp: Pasen
URL:https://www.kokboekencentrum.nl/event/pcob-schoonhoven/
LOCATION:Groene Singel 10\, Schoonhoven\, Groene Singel 10\, Schoonhoven\, Nederland
CATEGORIES:Joke Verweerd
END:VEVENT
BEGIN:VEVENT
DTSTART;TZID=UTC:20220407T194500
DTEND;TZID=UTC:20220407T210000
DTSTAMP:20260422T025916
CREATED:20220105T085056Z
LAST-MODIFIED:20220204T112039Z
UID:25676-1649360700-1649365200@www.kokboekencentrum.nl
SUMMARY:Passage Giessenburg
DESCRIPTION:Onderwerrp: Pasen
URL:https://www.kokboekencentrum.nl/event/passage-giessenburg/
LOCATION:De Til\, Breestraat 1\, Giessenburg\, Breestraat 1\, Giessenburg\, Nederland
CATEGORIES:Joke Verweerd
ATTACH;FMTTYPE=image/jpeg:https://www.kokboekencentrum.nl/wp-content/uploads/2022/01/De-til.jpeg
END:VEVENT
BEGIN:VEVENT
DTSTART;TZID=UTC:20220406T193000
DTEND;TZID=UTC:20220406T210000
DTSTAMP:20260422T025916
CREATED:20220105T084830Z
LAST-MODIFIED:20220204T112039Z
UID:25672-1649273400-1649278800@www.kokboekencentrum.nl
SUMMARY:Passage Langerak-Nieuwpoort
DESCRIPTION:Onderwerp: Pasen
URL:https://www.kokboekencentrum.nl/event/passage-langerak-nieuwpoort/
LOCATION:Het Arsenaal\, Buitenhaven 11\, Nieuwpoort\, Buitenhaven 11\, Nieuwpoort\, Nederland
CATEGORIES:Joke Verweerd
ATTACH;FMTTYPE=image/jpeg:https://www.kokboekencentrum.nl/wp-content/uploads/2022/01/Arsenaal-nieuwpoort-scaled.jpg
END:VEVENT
BEGIN:VEVENT
DTSTART;TZID=UTC:20220316T143000
DTEND;TZID=UTC:20220316T170000
DTSTAMP:20260422T025916
CREATED:20220105T084052Z
LAST-MODIFIED:20220204T112039Z
UID:25667-1647441000-1647450000@www.kokboekencentrum.nl
SUMMARY:Passage ’s Gravenzande
DESCRIPTION:Onderwerp: Pasen
URL:https://www.kokboekencentrum.nl/event/passage-s-gravenzande/
LOCATION:De Kiem\, Koningin Julianaweg 91\, ’s Gravenzande\, Julianaweg 91\, 's Gravenzande\, Nederland
CATEGORIES:Joke Verweerd
ATTACH;FMTTYPE=image/jpeg:https://www.kokboekencentrum.nl/wp-content/uploads/2022/01/kerk-de-kiem.jpg
END:VEVENT
BEGIN:VEVENT
DTSTART;TZID=UTC:20220315T194500
DTEND;TZID=UTC:20220315T210000
DTSTAMP:20260422T025916
CREATED:20220105T083911Z
LAST-MODIFIED:20220204T112039Z
UID:25664-1647373500-1647378000@www.kokboekencentrum.nl
SUMMARY:Passage Sliedrecht
DESCRIPTION:Onderwerp: Pasen
URL:https://www.kokboekencentrum.nl/event/passage-sliedrecht/
LOCATION:Maranatha Kerk\, Lijsterweg/ Rembrandtlaan\, Sliedrecht\, Lijsterweg 2\, Sliedrecht\, Nederland
CATEGORIES:Joke Verweerd
ATTACH;FMTTYPE=image/jpeg:https://www.kokboekencentrum.nl/wp-content/uploads/2022/01/Maranethakerk.jpg
END:VEVENT
BEGIN:VEVENT
DTSTART;TZID=UTC:20220307T194500
DTEND;TZID=UTC:20220307T210000
DTSTAMP:20260422T025916
CREATED:20220105T083431Z
LAST-MODIFIED:20220204T112039Z
UID:25661-1646682300-1646686800@www.kokboekencentrum.nl
SUMMARY:Protestantse Vrouwen op weg
DESCRIPTION:Onderwerp: Veerkracht
URL:https://www.kokboekencentrum.nl/event/protestantse-vrouwen-op-weg/
LOCATION:Het Lichthuis\, Waagplein\, Weesp\, Waagplein 10\, Weesp\, Nederland
CATEGORIES:Joke Verweerd
END:VEVENT
BEGIN:VEVENT
DTSTART;TZID=UTC:20220219T100000
DTEND;TZID=UTC:20220219T130000
DTSTAMP:20260422T025916
CREATED:20220105T083122Z
LAST-MODIFIED:20220204T112039Z
UID:25657-1645264800-1645275600@www.kokboekencentrum.nl
SUMMARY:Vrouwendag De Goede Herder Kerk
DESCRIPTION:Onderwerp: De reis van je leven
URL:https://www.kokboekencentrum.nl/event/vrouwendag-de-goede-herder-kerk/
LOCATION:De Goede Herder Kerk\, Meidoornstraat 9\, Den Haag\, Meidoornstraat 9\, Den Haag\, Nederland
CATEGORIES:Joke Verweerd
ATTACH;FMTTYPE=image/jpeg:https://www.kokboekencentrum.nl/wp-content/uploads/2022/01/Goede-herderkapel-scaled.jpg
END:VEVENT
BEGIN:VEVENT
DTSTART;TZID=UTC:20220215T193000
DTEND;TZID=UTC:20220215T203000
DTSTAMP:20260422T025916
CREATED:20220105T082544Z
LAST-MODIFIED:20220204T112039Z
UID:25654-1644953400-1644957000@www.kokboekencentrum.nl
SUMMARY:Passage Rijsoord
DESCRIPTION:Onderwerp: Veerkracht
URL:https://www.kokboekencentrum.nl/event/passage-rijsoord/
LOCATION:De Hoeksteen\, Rijksstraatweg 43\, Rijsoord\, Rijkstraatweg 43\, Nederland
CATEGORIES:Joke Verweerd
END:VEVENT
BEGIN:VEVENT
DTSTART;TZID=UTC:20220117T140000
DTEND;TZID=UTC:20220117T170000
DTSTAMP:20260422T025916
CREATED:20220105T081558Z
LAST-MODIFIED:20220204T112039Z
UID:25650-1642428000-1642438800@www.kokboekencentrum.nl
SUMMARY:PCOB Middelharnis
DESCRIPTION:Onderwerp: Veerkracht
URL:https://www.kokboekencentrum.nl/event/pcob-middelharnis/
LOCATION:De Hoeksteen\, Ring 13\, Middelharnis\, Ring 13\, Middelharnis\, Nederland
CATEGORIES:Joke Verweerd
ATTACH;FMTTYPE=image/jpeg:https://www.kokboekencentrum.nl/wp-content/uploads/2022/01/Ring-13-foto.jpg
END:VEVENT
END:VCALENDAR